BEGIN:VCALENDAR
VERSION:2.0
PRODID:Events Booking
BEGIN:VEVENT
UID:69e4e20c228be
SUMMARY:PMXPO 2025
DESCRIPTION:Join us for PMXPO&nbsp\;2025 to unlock the skills and insights 
 that empower you to drive meaningful change in your projects and our world
 . This free virtual event provides new and experienced Project Professiona
 ls the opportunity to explore our groundbreaking resources\, earn 12+ PDUs
 \, and discover how the project profession is making an impact on the worl
 d’s biggest challenges.
LOCATION:Virtual
DTSTART:20250320T140000Z
DTEND:20250320T184500Z
DTSTAMP:20250319T052915Z
ORGANIZER;CN=PMI Southern Nevada Events Team:MAILTO:no-reply@pmi-snc.org
END:VEVENT
END:VCALENDAR